BEGIN:VCALENDAR
VERSION:2.0
PRODID:-//bijzondereboekjes.nl - ECPv6.15.20//NONSGML v1.0//EN
CALSCALE:GREGORIAN
METHOD:PUBLISH
X-WR-CALNAME:bijzondereboekjes.nl
X-ORIGINAL-URL:https://bijzondereboekjes.nl
X-WR-CALDESC:Evenementen voor bijzondereboekjes.nl
REFRESH-INTERVAL;VALUE=DURATION:PT1H
X-Robots-Tag:noindex
X-PUBLISHED-TTL:PT1H
BEGIN:VTIMEZONE
TZID:Europe/Paris
BEGIN:DAYLIGHT
TZOFFSETFROM:+0100
TZOFFSETTO:+0200
TZNAME:CEST
DTSTART:20250330T010000
END:DAYLIGHT
BEGIN:STANDARD
TZOFFSETFROM:+0200
TZOFFSETTO:+0100
TZNAME:CET
DTSTART:20251026T010000
END:STANDARD
BEGIN:DAYLIGHT
TZOFFSETFROM:+0100
TZOFFSETTO:+0200
TZNAME:CEST
DTSTART:20260329T010000
END:DAYLIGHT
BEGIN:STANDARD
TZOFFSETFROM:+0200
TZOFFSETTO:+0100
TZNAME:CET
DTSTART:20261025T010000
END:STANDARD
BEGIN:DAYLIGHT
TZOFFSETFROM:+0100
TZOFFSETTO:+0200
TZNAME:CEST
DTSTART:20270328T010000
END:DAYLIGHT
BEGIN:STANDARD
TZOFFSETFROM:+0200
TZOFFSETTO:+0100
TZNAME:CET
DTSTART:20271031T010000
END:STANDARD
END:VTIMEZONE
BEGIN:VEVENT
DTSTART;TZID=Europe/Paris:20260422T100000
DTEND;TZID=Europe/Paris:20260422T130000
DTSTAMP:20260422T025204
CREATED:20251113T072937Z
LAST-MODIFIED:20260209T133837Z
UID:9073-1776852000-1776862800@bijzondereboekjes.nl
SUMMARY:Circulair boekbinden met de Koptische binding in Donderen
DESCRIPTION:Wil je op een bijzondere locatie een bijzonder notitieboekje binden? En gebruikmaken van duurzame materialen? \nDat kan in Donderen (Drenthe) op het terrein van Donderboerkamp in de bunker van de Wolstudio Haren met de Koptische binding. \nDeze boekbindtechniek is heel decoratief en divers toepasbaar want met deze klassieke bindwijze kun je creatief verschillende soorten omslagmateriaal verwerken tot een boekje met een mooie en flexibele rug dat bij gebruik goed plat en open blijft liggen. \nVoor het notitiepapier kun je onder andere kiezen uit bermgras-\, tulpenbollen-\, tomatenplanten- of olifantsgraspapier. Allemaal duurzame papiersoorten gefabriceerd in Nederland. \nVoor het omslag heb je keuze uit circulair materiaal zoals bijvoorbeeld cacaobonenpapier\, jeanspapier of ander mooi gerecycled papier. \nOm de katernen aan elkaar en aan het omslag te naaien kun je kiezen uit verschillende kleuren linnen naaigaren. \nVerder kun je zelf bepalen of je A6-formaat boekje (10\,5 bij 15 cm) staand is of liggend. \nAanmelden voor deze workshop kan door een mailtje te sturen naar Trudie van bijzondereboekjes.nl \nMeer info over de workshops bij Trudie kun je vinden op de workshop-pagina van bijzondereboekjes.nl.
URL:https://bijzondereboekjes.nl/event/2026-04-22/
LOCATION:Wolstudio Haren\, Norgerweg 219\, Donderen\, 9331 TZ\, Nederland
CATEGORIES:Workshops
ATTACH;FMTTYPE=image/jpeg:https://bijzondereboekjes.nl/wp-content/uploads/2024/04/koptische-binding.jpg
END:VEVENT
END:VCALENDAR