BEGIN:VCALENDAR
VERSION:2.0
PRODID:-//bijzondereboekjes.nl - ECPv6.15.20//NONSGML v1.0//EN
CALSCALE:GREGORIAN
METHOD:PUBLISH
X-WR-CALNAME:bijzondereboekjes.nl
X-ORIGINAL-URL:https://bijzondereboekjes.nl
X-WR-CALDESC:Evenementen voor bijzondereboekjes.nl
REFRESH-INTERVAL;VALUE=DURATION:PT1H
X-Robots-Tag:noindex
X-PUBLISHED-TTL:PT1H
BEGIN:VTIMEZONE
TZID:Europe/Paris
BEGIN:DAYLIGHT
TZOFFSETFROM:+0100
TZOFFSETTO:+0200
TZNAME:CEST
DTSTART:20250330T010000
END:DAYLIGHT
BEGIN:STANDARD
TZOFFSETFROM:+0200
TZOFFSETTO:+0100
TZNAME:CET
DTSTART:20251026T010000
END:STANDARD
BEGIN:DAYLIGHT
TZOFFSETFROM:+0100
TZOFFSETTO:+0200
TZNAME:CEST
DTSTART:20260329T010000
END:DAYLIGHT
BEGIN:STANDARD
TZOFFSETFROM:+0200
TZOFFSETTO:+0100
TZNAME:CET
DTSTART:20261025T010000
END:STANDARD
BEGIN:DAYLIGHT
TZOFFSETFROM:+0100
TZOFFSETTO:+0200
TZNAME:CEST
DTSTART:20270328T010000
END:DAYLIGHT
BEGIN:STANDARD
TZOFFSETFROM:+0200
TZOFFSETTO:+0100
TZNAME:CET
DTSTART:20271031T010000
END:STANDARD
END:VTIMEZONE
BEGIN:VEVENT
DTSTART;TZID=Europe/Paris:20260708T193000
DTEND;TZID=Europe/Paris:20260708T213000
DTSTAMP:20260421T230908
CREATED:20260413T125154Z
LAST-MODIFIED:20260413T125154Z
UID:9349-1783539000-1783546200@bijzondereboekjes.nl
SUMMARY:Bekleden van een notitieboek in Leeuwarden
DESCRIPTION:Wil je op een bijzondere locatie een bestaand notitieboekje bekleden? En gebruikmaken van bijzonder sierpapier? \nDat kan in Leeuwarden op een creatieve plek bij Makers Leeuwarden op de hoek Vijzelstraat/Noorderweg\, waar je behalve bijzondere handgemaakte producten ook prachtig sierpapier kunt vinden. \nBij deze workshop leer je de fijne kneepjes om netjes een bestaand notitieboekje te bekleden. \nAl het materiaal en gereedschap dat je nodig hebt om dit te doen is aanwezig. Je hebt de keuze uit een blanco of een gelinieerd notitieboekje. En er is thee met wat lekkers erbij. \nAanmelden voor deze workshop kan door een mailtje te sturen naar Trudie van bijzondereboekjes.nl \nMeer info over deze en andere boekbindworkshops van Trudie kun je vinden op de workshop-pagina van bijzondereboekjes.nl.
URL:https://bijzondereboekjes.nl/event/26-07-08/
LOCATION:Makers Leeuwarden\, Noorderweg 2\, Leeuwarden\, 8911 ES\, Netherlands
CATEGORIES:Workshops
ATTACH;FMTTYPE=image/jpeg:https://bijzondereboekjes.nl/wp-content/uploads/2025/04/makers-zwart-wit-.jpg
END:VEVENT
BEGIN:VEVENT
DTSTART;TZID=Europe/Paris:20260806T190000
DTEND;TZID=Europe/Paris:20260806T213000
DTSTAMP:20260421T230908
CREATED:20260209T145743Z
LAST-MODIFIED:20260413T124307Z
UID:9258-1786042800-1786051800@bijzondereboekjes.nl
SUMMARY:Boekbinden met de Koptische binding in Groningen
DESCRIPTION:Wil je op een bijzondere locatie een bijzonder schets- of opschrijfboekje leren binden? En gebruikmaken van duurzame materialen? \nDat kan in Groningen bij STUDIO BOTER. In een creatieve huiskamer met producten van lokale makers in een monumentaal pandje in de binnenstad. \nDe boekbindsteek van vanavond is de Koptische binding. \nVoor de vulling kun je kiezen uit diverse soorten blanco duurzaam notitiepapier of biotop papier met lijntjes of dots. \nVoor het omslag heb je keuze uit verschillende bijzondere papiersoorten. \nAl het gereedschap dat je nodig hebt voor het boekbinden is aanwezig. En er is thee met wat lekkers erbij. \nAanmelden voor deze workshop kan door een mailtje te sturen naar Trudie via mail@bijzondereboekjes.nl. Ook als je vragen hebt. \nMeer info over workshops bij Trudie kun je vinden op de workshop-pagina van bijzondereboekjes.nl.
URL:https://bijzondereboekjes.nl/event/2026-08-06/
LOCATION:Studio Boter\, Oude Boteringestraat 5\, Groningen\, 9712 GA
CATEGORIES:Workshops
ATTACH;FMTTYPE=image/jpeg:https://bijzondereboekjes.nl/wp-content/uploads/2026/03/koptisch-div-e1774359125849.jpg
END:VEVENT
END:VCALENDAR