BEGIN:VCALENDAR
VERSION:2.0
PRODID:-//bijzondereboekjes.nl - ECPv6.15.20//NONSGML v1.0//EN
CALSCALE:GREGORIAN
METHOD:PUBLISH
X-WR-CALNAME:bijzondereboekjes.nl
X-ORIGINAL-URL:https://bijzondereboekjes.nl
X-WR-CALDESC:Evenementen voor bijzondereboekjes.nl
REFRESH-INTERVAL;VALUE=DURATION:PT1H
X-Robots-Tag:noindex
X-PUBLISHED-TTL:PT1H
BEGIN:VTIMEZONE
TZID:Europe/Paris
BEGIN:DAYLIGHT
TZOFFSETFROM:+0100
TZOFFSETTO:+0200
TZNAME:CEST
DTSTART:20240331T010000
END:DAYLIGHT
BEGIN:STANDARD
TZOFFSETFROM:+0200
TZOFFSETTO:+0100
TZNAME:CET
DTSTART:20241027T010000
END:STANDARD
BEGIN:DAYLIGHT
TZOFFSETFROM:+0100
TZOFFSETTO:+0200
TZNAME:CEST
DTSTART:20250330T010000
END:DAYLIGHT
BEGIN:STANDARD
TZOFFSETFROM:+0200
TZOFFSETTO:+0100
TZNAME:CET
DTSTART:20251026T010000
END:STANDARD
BEGIN:DAYLIGHT
TZOFFSETFROM:+0100
TZOFFSETTO:+0200
TZNAME:CEST
DTSTART:20260329T010000
END:DAYLIGHT
BEGIN:STANDARD
TZOFFSETFROM:+0200
TZOFFSETTO:+0100
TZNAME:CET
DTSTART:20261025T010000
END:STANDARD
END:VTIMEZONE
BEGIN:VEVENT
DTSTART;TZID=Europe/Paris:20250501T200000
DTEND;TZID=Europe/Paris:20250501T223000
DTSTAMP:20260422T031047
CREATED:20250314T131956Z
LAST-MODIFIED:20250429T072251Z
UID:8631-1746129600-1746138600@bijzondereboekjes.nl
SUMMARY:Circulair boekbinden met de Koptische binding in Groningen VOL
DESCRIPTION:Wil je op een bijzondere locatie bijzondere boekjes binden? En gebruikmaken van duurzame materialen? \nDat kan in Groningen bij STUDIO BOTER. In een creatieve huiskamer met producten van lokale makers in een monumentaal pandje in de binnenstad. \nTijdens deze boekbindworkshop met de Koptische binding maak je in één avond een bijzonder teken- of notitieboekje van 96 bladzijden in een liggend formaat (10\,5 bij 15 cm). Door deze klassieke en decoratieve bindtechniek krijgt je boekje een flexibele rug waardoor het mooi plat open blijft liggen bij gebruik. \nMet papier van oude FLOW Magazines of andere tijdschriften maak je zelf een uniek en persoonlijk omslag voor je boekje. Je mag ook een tijdschrift\, atlas\, folder\, affiche of ander oud papier meenemen\, ter plekke kijken we hoe je het kunt toepassen. \nVoor de vulling van je boekje neem ik verschillende setjes duurzaam papier mee waaronder bermgras- en tulpenbollenpapier en natuurlijk verschillende mooie kleuren linnen boekbindgaren. Al het gereedschap dat je nodig hebt voor het boekbinden is verder ook aanwezig. En er is thee met wat lekkers erbij. \nAanmelden voor deze workshop kan helaas niet meer. Op 3 juli en 7 augustus is er nog wel ruimte. Dan werk je wel met een andere boekbindsteek. \nMeer info over workshops bij Trudie kun je vinden op de workshop-pagina van bijzondereboekjes.nl.
URL:https://bijzondereboekjes.nl/event/2025-05-01/
LOCATION:Studio Boter\, Oude Boteringestraat 5\, Groningen\, 9712 GA
CATEGORIES:Workshops
ATTACH;FMTTYPE=image/jpeg:https://bijzondereboekjes.nl/wp-content/uploads/2025/03/Koptisch-4K.jpg
END:VEVENT
BEGIN:VEVENT
DTSTART;TZID=Europe/Paris:20250430T203000
DTEND;TZID=Europe/Paris:20250430T230000
DTSTAMP:20260422T031047
CREATED:20250314T134840Z
LAST-MODIFIED:20250314T140159Z
UID:8639-1746045000-1746054000@bijzondereboekjes.nl
SUMMARY:Basisworkshop circulair boekbinden in het kerkje van Swichum
DESCRIPTION:Wil je op een bijzondere locatie bijzondere notitieboekjes leren binden? En gebruikmaken van duurzame materialen? \nDat kan in het kerkje van Swichum met de basisworkshop circulair boekbinden. \nTijdens deze workshop leer je van alles over het hergebruik van oud papier en ander restmateriaal om handige en unieke notitieboekjes te maken. \nIn één avond maak je met verschillende bindingen een paar verrassend leuke boekjes in verschillende formaten. De binddraden die je gebruikt zijn theezakjetouwtjes en (restjes) boekbindgaren. \nVoor het notitiepapier kun je kiezen uit verschillende soorten duurzame papiersoorten waaronder bermgras-\, landbouwafval- of olifantsgraspapier. \nAanmelden voor deze workshop kan door een mailtje te sturen naar Trudie van bijzondereboekjes.nl \nMeer info over de workshops bij Trudie kun je vinden op de workshop-pagina van bijzondereboekjes.nl. \n00000000
URL:https://bijzondereboekjes.nl/event/2025-04-30/
LOCATION:Kerkje van Swichum\, Ayttadyk 3\, 9087 CD Swichum
CATEGORIES:Workshops
ATTACH;FMTTYPE=image/jpeg:https://bijzondereboekjes.nl/wp-content/uploads/2025/02/schriftjes-e1739112089932.jpg
END:VEVENT
BEGIN:VEVENT
DTSTART;TZID=Europe/Paris:20250429T110000
DTEND;TZID=Europe/Paris:20250429T140000
DTSTAMP:20260422T031047
CREATED:20241119T141136Z
LAST-MODIFIED:20241120T105738Z
UID:8336-1745924400-1745935200@bijzondereboekjes.nl
SUMMARY:Circulair boekbinden met de cahiersteek in de Blokhuispoort
DESCRIPTION:Wil je op een bijzondere locatie een bijzonder boekje binden? En gebruikmaken van duurzame materialen? \nDat kan in Leeuwarden in de voormalige gevangenis de Blokhuispoort met de cahiersteek. \nAls je eenmaal weet hoe\, kun je met deze vrij eenvoudige steek heel veel kanten op! Je kunt een eenvoudig schriftje maken met een enkel katern\, maar ook een duo-boekje met twee katernen. Of zelfs een notitieboekje met meerdere katernen. Je kunt je hiermee echt creatief uitleven en eindeloos variëren met vorm en kleur. \nVoor het notitiepapier kun je kiezen uit bermgras-\, tulpenbollen-\, tomatenplanten- of olifantsgraspapier. Allemaal duurzame papiersoorten gefabriceerd in Nederland. \nVoor het omslag heb je keuze uit circulair materiaal zoals bijvoorbeeld leer van een oude bank\, een strook behang uit een behangstalenboek of een stuk vegan leather (krant-tex). \nLinnen naaigaren is in veel kleuren voor handen en je kunt ook theezakjetouwtjes gebruiken. \nAanmelden voor deze workshop kan door een mailtje te sturen naar Trudie van bijzondereboekjes.nl \nMeer info over de workshops bij Trudie kun je vinden op de workshop-pagina van bijzondereboekjes.nl.
URL:https://bijzondereboekjes.nl/event/2025-04-29/
LOCATION:De Blokhuispoort (H-vleugel cel 9)\, Blokhuisplein 40\, Leeuwarden\, 8911 LJ\, Nederland
CATEGORIES:Workshops
ATTACH;FMTTYPE=image/jpeg:https://bijzondereboekjes.nl/wp-content/uploads/2024/03/IMG_6724-scaled.jpeg
END:VEVENT
END:VCALENDAR