BEGIN:VCALENDAR
VERSION:2.0
PRODID:-//bijzondereboekjes.nl - ECPv6.15.20//NONSGML v1.0//EN
CALSCALE:GREGORIAN
METHOD:PUBLISH
X-ORIGINAL-URL:https://bijzondereboekjes.nl
X-WR-CALDESC:Evenementen voor bijzondereboekjes.nl
REFRESH-INTERVAL;VALUE=DURATION:PT1H
X-Robots-Tag:noindex
X-PUBLISHED-TTL:PT1H
BEGIN:VTIMEZONE
TZID:Europe/Paris
BEGIN:DAYLIGHT
TZOFFSETFROM:+0100
TZOFFSETTO:+0200
TZNAME:CEST
DTSTART:20240331T010000
END:DAYLIGHT
BEGIN:STANDARD
TZOFFSETFROM:+0200
TZOFFSETTO:+0100
TZNAME:CET
DTSTART:20241027T010000
END:STANDARD
BEGIN:DAYLIGHT
TZOFFSETFROM:+0100
TZOFFSETTO:+0200
TZNAME:CEST
DTSTART:20250330T010000
END:DAYLIGHT
BEGIN:STANDARD
TZOFFSETFROM:+0200
TZOFFSETTO:+0100
TZNAME:CET
DTSTART:20251026T010000
END:STANDARD
BEGIN:DAYLIGHT
TZOFFSETFROM:+0100
TZOFFSETTO:+0200
TZNAME:CEST
DTSTART:20260329T010000
END:DAYLIGHT
BEGIN:STANDARD
TZOFFSETFROM:+0200
TZOFFSETTO:+0100
TZNAME:CET
DTSTART:20261025T010000
END:STANDARD
END:VTIMEZONE
BEGIN:VEVENT
DTSTART;TZID=Europe/Paris:20250703T200000
DTEND;TZID=Europe/Paris:20250703T223000
DTSTAMP:20260422T083339
CREATED:20250426T121649Z
LAST-MODIFIED:20250512T122434Z
UID:8717-1751572800-1751581800@bijzondereboekjes.nl
SUMMARY:Circulair boekbinden met de Japanse binding in Groningen
DESCRIPTION:Wil je op een bijzondere locatie bijzondere boekjes binden? En gebruikmaken van duurzame materialen? \nDat kan in Groningen bij STUDIO BOTER. In een creatieve huiskamer met producten van lokale makers in een monumentaal pandje in de binnenstad. \nTijdens de boekbindworkshop met de Japanse binding maak je zelf in één avond een uniek teken- of opschrijfboekje. De Japanse binding is een mooie basissteek als uitgangspunt om op een inspirerende manier losse vellen te binden tot een bijzonder boekje. \nVoor het omslag maken we gebruik van oud papier uit oude tijdschriften\, ansichtkaarten of lapjes vilt. Ik neem genoeg mee om iets passends uit te kiezen. Als je zelf mooi stevig papier hebt liggen\, bijzondere (ansicht)kaarten of lapjes stof of vilt\,  mag je die ook meenemen\, ter plekke kijken we hoe je het kunt toepassen Het (liggende) formaat van het boekje wordt 15 bij 10\,5 cm. \nVoor de vulling van je boekje neem ik verschillende soorten A4’tjes duurzaam papier mee waaronder bermgras- en tomatenplantenpapier en natuurlijk verschillende mooie kleuren hennepkoord en linnen boekbindgaren. \nAl het gereedschap dat je nodig hebt voor het boekbinden is ook aanwezig. En er is thee met wat lekkers erbij. \nAanmelden voor deze workshop kan door een mailtje te sturen naar Trudie via mail@bijzondereboekjes.nl met vermelding van naam\, telefoonnummer\, met hoeveel personen je mee wilt doen en op welke datum. Maximaal aantal deelnemers: 4 personen. \nMeer info over workshops bij Trudie kun je vinden op de workshop-pagina van bijzondereboekjes.nl.
URL:https://bijzondereboekjes.nl/event/2025-07-03/
LOCATION:Studio Boter\, Oude Boteringestraat 5\, Groningen\, 9712 GA
CATEGORIES:Workshops
ATTACH;FMTTYPE=image/jpeg:https://bijzondereboekjes.nl/wp-content/uploads/2025/04/Japans.jpg
END:VEVENT
BEGIN:VEVENT
DTSTART;TZID=Europe/Paris:20250707T110000
DTEND;TZID=Europe/Paris:20250707T140000
DTSTAMP:20260422T083339
CREATED:20250512T120627Z
LAST-MODIFIED:20250630T074057Z
UID:8755-1751886000-1751896800@bijzondereboekjes.nl
SUMMARY:Circulair boekbinden met de Japanse binding in Donderen VOL
DESCRIPTION:Wil je op een bijzondere locatie een bijzonder boekje binden? En gebruikmaken van duurzame materialen? Dat kan in Donderen (Drenthe) op het terrein van Donderboerkamp in de bunker van de Wolstudio Haren met de Japanse binding. \nDe Japanse binding is een mooie basissteek als uitgangspunt om op een inspirerende manier losse vellen te binden tot een bijzonder boekje. \nVoor het notitiepapier kun je kiezen uit bermgras-\, tulpenbollen-\, tomatenplanten- of waterplantenpapier. Allemaal duurzame papiersoorten gefabriceerd in Nederland. \nVoor het omslag heb je keuze uit circulair materiaal zoals gerecycled vilt van i-did of iets uit een tijdschrift of een behangstalenboek. \nAanmelden voor deze workshop kan niet meer. Op 10 december is er weer een mogelijkheid voor een workshop met deze binding. Dan meedoen? Stuur een mailtje naar Trudie van bijzondereboekjes.nl \nMeer info over de workshops bij Trudie kun je vinden op de workshop-pagina van bijzondereboekjes.nl.
URL:https://bijzondereboekjes.nl/event/2025-07-07/
LOCATION:Wolstudio Haren\, Norgerweg 219\, Donderen\, 9331 TZ\, Nederland
CATEGORIES:Workshops
ATTACH;FMTTYPE=image/jpeg:https://bijzondereboekjes.nl/wp-content/uploads/2024/04/japanse-binding.jpg
END:VEVENT
BEGIN:VEVENT
DTSTART;TZID=Europe/Paris:20250709T110000
DTEND;TZID=Europe/Paris:20250709T140000
DTSTAMP:20260422T083339
CREATED:20241105T081020Z
LAST-MODIFIED:20241120T105614Z
UID:8290-1752058800-1752069600@bijzondereboekjes.nl
SUMMARY:Circulair boekbinden met de cahiersteek in Donderen
DESCRIPTION:Wil je op een bijzondere locatie een bijzonder boekje binden? En gebruikmaken van duurzame materialen? \nDat kan in Donderen (Drenthe) op het terrein van Donderboerkamp in de bunker van de Wolstudio Haren met de cahiersteek. \nAls je eenmaal weet hoe\, kun je met deze vrij eenvoudige steek heel veel kanten op! Je kunt een eenvoudig schriftje maken met een enkel katern\, maar ook een duo-boekje met twee katernen. Of zelfs een notitieboekje met meerdere katernen. Je kunt je hiermee echt creatief uitleven en eindeloos variëren met vorm en kleur. \nVoor het notitiepapier kun je kiezen uit bermgras-\, tulpenbollen-\, tomatenplanten- of olifantsgraspapier. Allemaal duurzame papiersoorten gefabriceerd in Nederland. \nVoor het omslag heb je keuze uit circulair materiaal zoals bijvoorbeeld leer van een oude bank\, een stuk vegan leather (kraft-tex) of een strook behang uit een behangstalenboek of je zelf gevilte lapje. \nLinnen naaigaren is in veel kleuren voor handen en je kunt ook theezakjetouwtjes gebruiken. \nAanmelden voor deze workshop kan door een mailtje te sturen naar Trudie van bijzondereboekjes.nl \nMeer info over de workshops bij Trudie kun je vinden op de workshop-pagina van bijzondereboekjes.nl.
URL:https://bijzondereboekjes.nl/event/2025-07-09/
LOCATION:Wolstudio Haren\, Norgerweg 219\, Donderen\, 9331 TZ\, Nederland
CATEGORIES:Workshops
ATTACH;FMTTYPE=image/jpeg:https://bijzondereboekjes.nl/wp-content/uploads/2024/03/IMG_6724-scaled.jpeg
END:VEVENT
BEGIN:VEVENT
DTSTART;TZID=Europe/Paris:20250718T110000
DTEND;TZID=Europe/Paris:20250718T133000
DTSTAMP:20260422T083339
CREATED:20250330T150400Z
LAST-MODIFIED:20250504T070929Z
UID:8670-1752836400-1752845400@bijzondereboekjes.nl
SUMMARY:Notitieboekje met de Japanse binding in Annen
DESCRIPTION:Wil je op een bijzondere locatie een bijzonder boekje binden? En gebruikmaken van duurzame materialen? Dat kan in Annen (Drenthe) in een Yurt in de tuin van de Viltstudio van Joke Hoeksema in Annen. \n’s Ochtends leer je van alles over papier en het inbinden daarvan en hoe je dat op een duurzame manier kunt doen.  \nJe maakt zelf een uniek opschrijfboekje door blanco bermgraspapier of waterplantenpapier met de Japanse binding aan een omslag te naaien. Voor het naaigaren kun je kiezen uit verschillende soorten binddraad. \nVoor het omslag maken we gebruik van oud papier uit oude FLOW Magazines\, natuurtijdschriften\, ansichtkaarten en ander papier. Ik neem genoeg mee om uit te kiezen\, maar als je zelf mooi stevig papier hebt liggen of mooie kaarten die je wilt gebruiken\, mag je dat ook meenemen. Het (liggende) formaat van het boekje is 15 bij 10\,5 cm. \nAls je aansluitend\, na de lunch\, ook de middagworkshop bij Thea Hommema volgt\, kun je je notitieboekje meteen gebruiken om haiku’s in te schrijven. \nAanmelden voor de boekbindworkshop kan door een mailtje te sturen naar Trudie van bijzondereboekjes.nl. Geef meteen aan of je alleen de ochtendworkshop wilt volgen of ook de middagworkshop (15 euro meerprijs). \nHaikuworkshop. In zeven stappen stilstaan bij de levenskunst van het haiku-dichten. \nEen haiku is een gedicht van drie regels die je in een ademtocht zou kunnen uitspreken en dat altijd een woord bevat dat naar een seizoen verwijst. Een haiku brengt je in het hier en nu. \nSamen met Thea ga je haiku’s schrijven in de omgeving van de plek van de workshop. \nMeer info over de Haikuworkshop krijg je door een mailtje te sturen naar Thea Hommema. \nMeer info over de workshops bij Trudie kun je vinden op de workshop-pagina van bijzondereboekjes.nl.
URL:https://bijzondereboekjes.nl/event/2025-07-18/
LOCATION:Viltstudio Annen\, Annerstreek 31\, Annen\, 9468 AL\, Netherlands
CATEGORIES:Workshops
ATTACH;FMTTYPE=image/jpeg:https://bijzondereboekjes.nl/wp-content/uploads/2025/03/Japanse-binding.jpg
END:VEVENT
BEGIN:VEVENT
DTSTART;TZID=Europe/Paris:20250723T203000
DTEND;TZID=Europe/Paris:20250723T230000
DTSTAMP:20260422T083339
CREATED:20250314T135538Z
LAST-MODIFIED:20250728T114235Z
UID:8645-1753302600-1753311600@bijzondereboekjes.nl
SUMMARY:Basisworkshop circulair boekbinden in het kerkje van Swichum VOL
DESCRIPTION:Wil je op een bijzondere locatie bijzondere notitieboekjes leren binden? En gebruikmaken van duurzame materialen? \nDat kan in het kerkje van Swichum met de basisworkshop circulair boekbinden. \nTijdens deze workshop leer je van alles over het hergebruik van oud papier en ander restmateriaal om handige en unieke notitieboekjes te maken. \nIn één avond maak je met verschillende bindingen een paar verrassend leuke boekjes in verschillende formaten. De binddraden die je gebruikt zijn theezakjetouwtjes en (restjes) boekbindgaren. \nVoor het notitiepapier kun je kiezen uit verschillende soorten duurzame papiersoorten waaronder bermgras-\, landbouwafval- of olifantsgraspapier. \nAanmelden voor deze workshop kan niet meer\, op 27 augustus is er weer een workshop in Swichum. \nMeer info over de workshops bij Trudie kun je vinden op de workshop-pagina van bijzondereboekjes.nl. \n00000000
URL:https://bijzondereboekjes.nl/event/2025-07-23/
LOCATION:Kerkje van Swichum\, Ayttadyk 3\, 9087 CD Swichum
CATEGORIES:Workshops
ATTACH;FMTTYPE=image/jpeg:https://bijzondereboekjes.nl/wp-content/uploads/2025/02/schriftjes-e1739112089932.jpg
END:VEVENT
BEGIN:VEVENT
DTSTART;TZID=Europe/Paris:20250729T110000
DTEND;TZID=Europe/Paris:20250729T140000
DTSTAMP:20260422T083339
CREATED:20250718T151607Z
LAST-MODIFIED:20250728T114214Z
UID:8847-1753786800-1753797600@bijzondereboekjes.nl
SUMMARY:Circulair boekbinden met de Japanse binding in de Blokhuispoort
DESCRIPTION:Wil je op een bijzondere locatie een bijzonder boekje binden? En gebruikmaken van duurzame materialen? Dat kan in Leeuwarden in een cel van de voormalige gevangenis de Blokhuispoort met de Japanse binding. \nDe Japanse binding is een mooie basissteek als uitgangspunt om op een inspirerende manier losse vellen te binden tot een bijzonder boekje. \nVoor het notitiepapier kun je kiezen uit bermgras-\, tulpenbollen-\, tomatenplanten- of waterplantenpapier. Allemaal duurzame papiersoorten gefabriceerd in Nederland. \nVoor het omslag heb je keuze uit circulair materiaal zoals gerecycled vilt van i-did of iets uit een tijdschrift of een behangstalenboek. \nAanmelden voor deze workshop kan door een mailtje te sturen naar Trudie van bijzondereboekjes.nl \nMeer info over de workshops bij Trudie kun je vinden op de workshop-pagina van bijzondereboekjes.nl. \n\n\n\n\n Toevoegen aan kalender
URL:https://bijzondereboekjes.nl/event/2025-07-29/
LOCATION:De Blokhuispoort (H-vleugel cel 9)\, Blokhuisplein 40\, Leeuwarden\, 8911 LJ\, Nederland
CATEGORIES:Workshops
ATTACH;FMTTYPE=image/jpeg:https://bijzondereboekjes.nl/wp-content/uploads/2024/04/japanse-binding.jpg
END:VEVENT
END:VCALENDAR