BEGIN:VCALENDAR
VERSION:2.0
PRODID:-//bijzondereboekjes.nl - ECPv6.15.20//NONSGML v1.0//EN
CALSCALE:GREGORIAN
METHOD:PUBLISH
X-WR-CALNAME:bijzondereboekjes.nl
X-ORIGINAL-URL:https://bijzondereboekjes.nl
X-WR-CALDESC:Evenementen voor bijzondereboekjes.nl
REFRESH-INTERVAL;VALUE=DURATION:PT1H
X-Robots-Tag:noindex
X-PUBLISHED-TTL:PT1H
BEGIN:VTIMEZONE
TZID:Europe/Paris
BEGIN:DAYLIGHT
TZOFFSETFROM:+0100
TZOFFSETTO:+0200
TZNAME:CEST
DTSTART:20240331T010000
END:DAYLIGHT
BEGIN:STANDARD
TZOFFSETFROM:+0200
TZOFFSETTO:+0100
TZNAME:CET
DTSTART:20241027T010000
END:STANDARD
BEGIN:DAYLIGHT
TZOFFSETFROM:+0100
TZOFFSETTO:+0200
TZNAME:CEST
DTSTART:20250330T010000
END:DAYLIGHT
BEGIN:STANDARD
TZOFFSETFROM:+0200
TZOFFSETTO:+0100
TZNAME:CET
DTSTART:20251026T010000
END:STANDARD
BEGIN:DAYLIGHT
TZOFFSETFROM:+0100
TZOFFSETTO:+0200
TZNAME:CEST
DTSTART:20260329T010000
END:DAYLIGHT
BEGIN:STANDARD
TZOFFSETFROM:+0200
TZOFFSETTO:+0100
TZNAME:CET
DTSTART:20261025T010000
END:STANDARD
END:VTIMEZONE
BEGIN:VEVENT
DTSTART;TZID=Europe/Paris:20250807T200000
DTEND;TZID=Europe/Paris:20250807T223000
DTSTAMP:20260422T064739
CREATED:20250512T121949Z
LAST-MODIFIED:20250804T152131Z
UID:8757-1754596800-1754605800@bijzondereboekjes.nl
SUMMARY:Circulair boekbinden met de Franse kruissteek in Groningen VOL
DESCRIPTION:Wil je op een bijzondere locatie bijzondere boekjes binden? En gebruikmaken van duurzame materialen? \nDat kan in Groningen bij STUDIO BOTER. In een creatieve huiskamer met producten van lokale makers in een monumentaal pandje in de binnenstad. \nTijdens de boekbindworkshop met de Franse kruissteek maak je zelf in één avond een uniek teken- of opschrijfboekje. De decoratieve binding die je gaat leren\, zorgt voor een flexibele (open) rug van je boekje zodat het goed open blijft liggen tijdens het gebruik. \nVoor het omslag maken we gebruik van oud papier zoals van tijdschriften\, affiches en verpakkingsmateriaal. Ik neem genoeg mee om iets passends uit te kiezen. Als je zelf iets bruikbaars hebt liggen\, mag je dat ook meenemen\, ter plekke kijken we hoe je het kunt toepassen. Het (staande) formaat van het boekje wordt 15 bij 10\,5 cm. \nVoor de vulling van je boekje neem ik verschillende soorten A4’tjes duurzaam papier mee waaronder bermgras-\, olifantsgras- en tomatenplantenpapier mee en natuurlijk verschillende mooie kleuren linnen boekbindgaren. Voor de liefhebbers neem ik ook vellen Biotoppapier mee dat subtiel bedrukt is met lijntjes of dots. \nAl het gereedschap dat je nodig hebt voor het boekbinden is ook aanwezig. En er is thee met wat lekkers erbij. \nAanmelden voor deze workshop kan door een mailtje te sturen naar Trudie via mail@bijzondereboekjes.nl met vermelding van naam\, telefoonnummer\, met hoeveel personen je mee wilt doen en op welke datum. Maximaal aantal deelnemers: 4 personen. Er zijn vier deelnemers en je kunt je voor deze workshop niet meer aanmelden. Kijk in de workshop kalender voor een andere mogelijkheid. \nMeer info over workshops bij Trudie kun je vinden op de workshop-pagina van bijzondereboekjes.nl.
URL:https://bijzondereboekjes.nl/event/2025-08-07/
LOCATION:Studio Boter\, Oude Boteringestraat 5\, Groningen\, 9712 GA
CATEGORIES:Workshops
ATTACH;FMTTYPE=image/jpeg:https://bijzondereboekjes.nl/wp-content/uploads/2022/05/Tony3.jpg
END:VEVENT
BEGIN:VEVENT
DTSTART;TZID=Europe/Paris:20250813T110000
DTEND;TZID=Europe/Paris:20250813T140000
DTSTAMP:20260422T064739
CREATED:20241105T081134Z
LAST-MODIFIED:20250803T134613Z
UID:8292-1755082800-1755093600@bijzondereboekjes.nl
SUMMARY:Circulair boekbinden met de Franse kruissteek in Donderen VOL
DESCRIPTION:Wil je op een bijzondere locatie een bijzonder boekje binden? En gebruikmaken van duurzame materialen? Dat kan in Donderen (Drenthe) op het terrein van Donderboerkamp in de bunker van de Wolstudio Haren met de Franse kruissteek. \nVoor het notitiepapier kun je kiezen uit bermgras-\, tulpenbollen-\, tomatenplanten- of olifantsgraspapier. Allemaal duurzame papiersoorten gefabriceerd in Nederland. \nVoor het omslag heb je keuze uit verschillend circulair materiaal zoals bijvoorbeeld tijdschriften\, behangstalen\, cacaobonenpapier en jeanspapier. \nOpgave kan via deze link of stuur een mail naar Trudie van bijzondereboekjes.nl \nOPGEVEN VOOR DEZE WORKSHOP KAN NIET MEER\, KIJK IN DE WORKSHOP KALENDER OF ER BIJ EEN ANDERE WORKSHOP NOG WEL PLEK IS. \nMeer info over workshops bij Trudie kun je vinden op de workshop-pagina van bijzondereboekjes.nl.
URL:https://bijzondereboekjes.nl/event/2025-08-13/
LOCATION:Wolstudio Haren\, Norgerweg 219\, Donderen\, 9331 TZ\, Nederland
CATEGORIES:Workshops
ATTACH;FMTTYPE=image/jpeg:https://bijzondereboekjes.nl/wp-content/uploads/2024/03/IMG_6722-scaled.jpeg
END:VEVENT
BEGIN:VEVENT
DTSTART;TZID=Europe/Paris:20250820T203000
DTEND;TZID=Europe/Paris:20250820T223000
DTSTAMP:20260422T064739
CREATED:20250718T153420Z
LAST-MODIFIED:20250728T113255Z
UID:8849-1755721800-1755729000@bijzondereboekjes.nl
SUMMARY:Circulair boekbinden met leer in Leeuwarden
DESCRIPTION:Wil je op een bijzondere locatie een bijzonder boekje binden? En gebruikmaken van duurzame materialen? \nDat kan in Leeuwarden op een gloednieuwe creatieve plek bij Makers Leeuwarden op de hoek Vijzelstraat/Noorderweg\, waar je prachtige artikelen vindt die gemaakt zijn door Makers uit heel Nederland. \nTijdens deze workshop maak je een unieke journal waarbij je met een bijzondere kruissteek vijf katernen aan een omslag van leer of papierleer vastnaait. Je hebt keuze uit verschillende soorten en kleuren. \nVoor het notitiepapier kun je onder andere kiezen uit bermgras-\, tulpenbollen-\, tomatenplanten- of olifantsgraspapier. Allemaal duurzame papiersoorten gefabriceerd in Nederland. \nOm mee te binden is er hennepkoord en andere garens in verschillende kleuren beschikbaar. \nBij Makers kun je verschillende soorten materialen aanschaffen om thuis je eigen notitieboekjes mee te maken. \nAanmelden voor deze workshop kan door een mailtje te sturen naar Trudie van bijzondereboekjes.nl \nMeer info over deze en andere boekbindworkshops van Trudie kun je vinden op de workshop-pagina van bijzondereboekjes.nl.
URL:https://bijzondereboekjes.nl/event/25-08-20/
LOCATION:Makers Leeuwarden\, Noorderweg 2\, Leeuwarden\, 8911 ES\, Netherlands
CATEGORIES:Workshops
ATTACH;FMTTYPE=image/jpeg:https://bijzondereboekjes.nl/wp-content/uploads/2024/11/leren-journal.jpg
END:VEVENT
BEGIN:VEVENT
DTSTART;TZID=Europe/Paris:20250827T203000
DTEND;TZID=Europe/Paris:20250827T230000
DTSTAMP:20260422T064739
CREATED:20250314T135702Z
LAST-MODIFIED:20250314T140418Z
UID:8647-1756326600-1756335600@bijzondereboekjes.nl
SUMMARY:Basisworkshop circulair boekbinden in het kerkje van Swichum
DESCRIPTION:Wil je op een bijzondere locatie bijzondere notitieboekjes leren binden? En gebruikmaken van duurzame materialen? \nDat kan in het kerkje van Swichum met de basisworkshop circulair boekbinden. \nTijdens deze workshop leer je van alles over het hergebruik van oud papier en ander restmateriaal om handige en unieke notitieboekjes te maken. \nIn één avond maak je met verschillende bindingen een paar verrassend leuke boekjes in verschillende formaten. De binddraden die je gebruikt zijn theezakjetouwtjes en (restjes) boekbindgaren. \nVoor het notitiepapier kun je kiezen uit verschillende soorten duurzame papiersoorten waaronder bermgras-\, landbouwafval- of olifantsgraspapier. \nAanmelden voor deze workshop kan door een mailtje te sturen naar Trudie van bijzondereboekjes.nl \nMeer info over de workshops bij Trudie kun je vinden op de workshop-pagina van bijzondereboekjes.nl. \n00000000
URL:https://bijzondereboekjes.nl/event/2025-08-27/
LOCATION:Kerkje van Swichum\, Ayttadyk 3\, 9087 CD Swichum
CATEGORIES:Workshops
ATTACH;FMTTYPE=image/jpeg:https://bijzondereboekjes.nl/wp-content/uploads/2025/02/schriftjes-e1739112089932.jpg
END:VEVENT
END:VCALENDAR