BEGIN:VCALENDAR
VERSION:2.0
PRODID:-//bijzondereboekjes.nl - ECPv6.15.20//NONSGML v1.0//EN
CALSCALE:GREGORIAN
METHOD:PUBLISH
X-ORIGINAL-URL:https://bijzondereboekjes.nl
X-WR-CALDESC:Evenementen voor bijzondereboekjes.nl
REFRESH-INTERVAL;VALUE=DURATION:PT1H
X-Robots-Tag:noindex
X-PUBLISHED-TTL:PT1H
BEGIN:VTIMEZONE
TZID:Europe/Paris
BEGIN:DAYLIGHT
TZOFFSETFROM:+0100
TZOFFSETTO:+0200
TZNAME:CEST
DTSTART:20240331T010000
END:DAYLIGHT
BEGIN:STANDARD
TZOFFSETFROM:+0200
TZOFFSETTO:+0100
TZNAME:CET
DTSTART:20241027T010000
END:STANDARD
BEGIN:DAYLIGHT
TZOFFSETFROM:+0100
TZOFFSETTO:+0200
TZNAME:CEST
DTSTART:20250330T010000
END:DAYLIGHT
BEGIN:STANDARD
TZOFFSETFROM:+0200
TZOFFSETTO:+0100
TZNAME:CET
DTSTART:20251026T010000
END:STANDARD
BEGIN:DAYLIGHT
TZOFFSETFROM:+0100
TZOFFSETTO:+0200
TZNAME:CEST
DTSTART:20260329T010000
END:DAYLIGHT
BEGIN:STANDARD
TZOFFSETFROM:+0200
TZOFFSETTO:+0100
TZNAME:CET
DTSTART:20261025T010000
END:STANDARD
END:VTIMEZONE
BEGIN:VEVENT
DTSTART;TZID=Europe/Paris:20251204T200000
DTEND;TZID=Europe/Paris:20251204T223000
DTSTAMP:20260421T230507
CREATED:20250717T175957Z
LAST-MODIFIED:20251014T145701Z
UID:8843-1764878400-1764887400@bijzondereboekjes.nl
SUMMARY:Circulair boekbinden met de Koptische binding in Groningen VOL
DESCRIPTION:Wil je op een bijzondere locatie bijzondere boekjes binden? En gebruikmaken van duurzame materialen? \nDat kan in Groningen bij STUDIO BOTER. In een creatieve huiskamer met producten van lokale makers in een monumentaal pandje in de binnenstad. \nTijdens deze boekbindworkshop met de Koptische binding maak je in één avond een bijzonder teken- of notitieboekje van 96 bladzijden in een staand of liggend formaat (10\,5 bij 15 cm). Door deze klassieke en decoratieve bindtechniek krijgt je boekje een flexibele rug waardoor het mooi plat open blijft liggen bij gebruik. \nMet papier van oude FLOW Magazines of andere tijdschriften maak je zelf een uniek en persoonlijk omslag voor je boekje. Je mag ook een tijdschrift\, atlas\, folder\, affiche of ander oud papier meenemen\, ter plekke kijken we hoe je het kunt toepassen. \nVoor de vulling van je boekje neem ik verschillende setjes duurzaam papier mee waaronder bermgras- en tulpenbollenpapier en natuurlijk verschillende mooie kleuren linnen boekbindgaren. Al het gereedschap dat je nodig hebt voor het boekbinden is verder ook aanwezig. En er is thee met wat lekkers erbij. \nAanmelden voor deze workshop kan niet meer\, wel kun je een mailtje sturen naar Trudie van bijzondereboekjes.nl om te vragen of je op de wachtlijst kunt komen\, voor het geval er toch een plekje vrijkomt. \nMeer info over workshops bij Trudie kun je vinden op de workshop-pagina van bijzondereboekjes.nl.
URL:https://bijzondereboekjes.nl/event/2025-12-04/
LOCATION:Studio Boter\, Oude Boteringestraat 5\, Groningen\, 9712 GA
CATEGORIES:Workshops
ATTACH;FMTTYPE=image/jpeg:https://bijzondereboekjes.nl/wp-content/uploads/2025/03/Koptisch-4K.jpg
END:VEVENT
BEGIN:VEVENT
DTSTART;TZID=Europe/Paris:20251210T110000
DTEND;TZID=Europe/Paris:20251210T140000
DTSTAMP:20260421T230507
CREATED:20250314T133121Z
LAST-MODIFIED:20250909T124549Z
UID:8637-1765364400-1765375200@bijzondereboekjes.nl
SUMMARY:Circulair boekbinden met de Japanse binding in Donderen VOL
DESCRIPTION:Wil je op een bijzondere locatie een bijzonder boekje binden? En gebruikmaken van duurzame materialen? Dat kan in Donderen (Drenthe) op het terrein van Donderboerkamp in de bunker van de Wolstudio Haren met de Japanse binding. \nDe Japanse binding is een mooie basissteek als uitgangspunt om op een inspirerende manier losse vellen te binden tot een bijzonder boekje. \nVoor het notitiepapier kun je kiezen uit bermgras-\, tulpenbollen-\, tomatenplanten- of waterplantenpapier. Allemaal duurzame papiersoorten gefabriceerd in Nederland. \nVoor het omslag heb je keuze uit circulair materiaal zoals gerecycled vilt van i-did of iets uit een tijdschrift of een behangstalenboek. \nAanmelden voor deze workshop kan niet meer. Je kunt wel je belangstelling laten weten door een mailtje te sturen naar Trudie van bijzondereboekjes.nl \nMeer info over deze en andere boekbindworkshops van Trudie kun je vinden op de workshop-pagina van bijzondereboekjes.nl.
URL:https://bijzondereboekjes.nl/event/2025-12-10/
LOCATION:Wolstudio Haren\, Norgerweg 219\, Donderen\, 9331 TZ\, Nederland
CATEGORIES:Workshops
ATTACH;FMTTYPE=image/jpeg:https://bijzondereboekjes.nl/wp-content/uploads/2025/04/Japans.jpg
END:VEVENT
BEGIN:VEVENT
DTSTART;TZID=Europe/Paris:20251217T203000
DTEND;TZID=Europe/Paris:20251217T223000
DTSTAMP:20260421T230507
CREATED:20250721T164018Z
LAST-MODIFIED:20251214T211254Z
UID:8886-1766003400-1766010600@bijzondereboekjes.nl
SUMMARY:Circulair boekbinden in Leeuwarden: kleine boekjes maken VOL
DESCRIPTION:Wil je op een bijzondere locatie bijzondere notitieboekje binden? En gebruikmaken van duurzame materialen? \nDat kan in Leeuwarden op een hele mooie creatieve plek bij Makers Leeuwarden op de hoek Vijzelstraat/Noorderweg\, waar je prachtige artikelen vindt die gemaakt zijn door Makers uit heel Nederland. \nHet onderwerp van deze workshop staat in de sfeer van kerst: we gaan kleine opschrijfboekjes maken die je in de kerstboom kunt hangen. \nEr is genoeg stevig papier aanwezig om omslagjes uit te kiezen en voor het binden van het notitiepapier gebruiken we theezakjetouwtjes. \nAanmelden voor deze workshop kan niet meer. Wel kun je op 27 januari een vergelijkbare workshop volgen en aanmelden daarvoor kan door een mailtje te sturen naar Trudie van bijzondereboekjes.nl \nMeer info over deze en andere boekbindworkshops van Trudie kun je vinden op de workshop-pagina van bijzondereboekjes.nl.
URL:https://bijzondereboekjes.nl/event/25-12-17/
LOCATION:Makers Leeuwarden\, Noorderweg 2\, Leeuwarden\, 8911 ES\, Netherlands
CATEGORIES:Workshops
ATTACH;FMTTYPE=image/jpeg:https://bijzondereboekjes.nl/wp-content/uploads/2025/07/IMG_9487-scaled-e1763475385605.jpeg
END:VEVENT
BEGIN:VEVENT
DTSTART;TZID=Europe/Paris:20251223T110000
DTEND;TZID=Europe/Paris:20251223T140000
DTSTAMP:20260421T230507
CREATED:20250718T162848Z
LAST-MODIFIED:20251206T143341Z
UID:8868-1766487600-1766498400@bijzondereboekjes.nl
SUMMARY:Circulair boekbinden met de cahiersteek in de Blokhuispoort
DESCRIPTION:Wil je op een bijzondere locatie een bijzonder boekje of een agenda voor 2026 binden? En gebruikmaken van duurzame materialen? \nDat kan in Leeuwarden in de voormalige gevangenis de Blokhuispoort met de cahiersteek. \nAls je eenmaal weet hoe\, kun je met deze vrij eenvoudige steek heel veel kanten op! Je kunt een eenvoudig schriftje maken met een enkel katern\, maar ook een duo-boekje met twee katernen. Of zelfs een notitieboekje met meerdere katernen. Je kunt je hiermee echt creatief uitleven en eindeloos variëren met vorm en kleur. \nVoor de omslagen kun je kiezen uit diverse soorten oud papier\, papierleer en gerecycled vilt. Voor de vulling van de boekjes zijn er verschillende soorten duurzaam papier beschikbaar zoals bermgras-\, olifantsgras- en tulpenbollenpapier. \nMocht je gelinieerd papier of papier met dots willen gebruiken\, kan dat door een meerprijs van 3\,60. En je kunt in plaats van een opschrijfboekje nu ook een agenda maken en dan heb je de keuze uit twee indelingen: de week verdeeld over twee pagina’s of de week op de linkerpagina en ruimte voor (aan)tekeningen op de rechterbladzijde. Kies je voor een agenda\, dan is de meerprijs 10 euro. \nAl het gereedschap dat je nodig hebt voor het boekbinden is verder aanwezig. En er is thee met wat lekkers erbij. \nAanmelden voor deze workshop kan door een mailtje te sturen naar Trudie van bijzondereboekjes.nl \nMeer info over deze en andere boekbindworkshops van Trudie kun je vinden op de workshop-pagina van bijzondereboekjes.nl.
URL:https://bijzondereboekjes.nl/event/2025-12-23/
LOCATION:De Blokhuispoort (H-vleugel cel 9)\, Blokhuisplein 40\, Leeuwarden\, 8911 LJ\, Nederland
CATEGORIES:Workshops
ATTACH;FMTTYPE=image/jpeg:https://bijzondereboekjes.nl/wp-content/uploads/2024/03/IMG_6724-scaled.jpeg
END:VEVENT
END:VCALENDAR