BEGIN:VCALENDAR
VERSION:2.0
PRODID:-//bijzondereboekjes.nl - ECPv6.15.20//NONSGML v1.0//EN
CALSCALE:GREGORIAN
METHOD:PUBLISH
X-WR-CALNAME:bijzondereboekjes.nl
X-ORIGINAL-URL:https://bijzondereboekjes.nl
X-WR-CALDESC:Evenementen voor bijzondereboekjes.nl
REFRESH-INTERVAL;VALUE=DURATION:PT1H
X-Robots-Tag:noindex
X-PUBLISHED-TTL:PT1H
BEGIN:VTIMEZONE
TZID:Europe/Paris
BEGIN:DAYLIGHT
TZOFFSETFROM:+0100
TZOFFSETTO:+0200
TZNAME:CEST
DTSTART:20250330T010000
END:DAYLIGHT
BEGIN:STANDARD
TZOFFSETFROM:+0200
TZOFFSETTO:+0100
TZNAME:CET
DTSTART:20251026T010000
END:STANDARD
BEGIN:DAYLIGHT
TZOFFSETFROM:+0100
TZOFFSETTO:+0200
TZNAME:CEST
DTSTART:20260329T010000
END:DAYLIGHT
BEGIN:STANDARD
TZOFFSETFROM:+0200
TZOFFSETTO:+0100
TZNAME:CET
DTSTART:20261025T010000
END:STANDARD
BEGIN:DAYLIGHT
TZOFFSETFROM:+0100
TZOFFSETTO:+0200
TZNAME:CEST
DTSTART:20270328T010000
END:DAYLIGHT
BEGIN:STANDARD
TZOFFSETFROM:+0200
TZOFFSETTO:+0100
TZNAME:CET
DTSTART:20271031T010000
END:STANDARD
END:VTIMEZONE
BEGIN:VEVENT
DTSTART;TZID=Europe/Paris:20260114T193000
DTEND;TZID=Europe/Paris:20260114T213000
DTSTAMP:20260421T212420
CREATED:20251026T102112Z
LAST-MODIFIED:20260209T134329Z
UID:9026-1768419000-1768426200@bijzondereboekjes.nl
SUMMARY:Circulair boekbinden met de Koptische binding in Leeuwarden VOL
DESCRIPTION:Wil je op een bijzondere locatie een bijzonder notitieboekje binden? En gebruikmaken van duurzame materialen? \nDat kan in Leeuwarden op een creatieve plek bij Makers Leeuwarden op de hoek Vijzelstraat/Noorderweg\, waar je prachtige artikelen vindt die gemaakt zijn door Makers uit heel Nederland. \nTijdens deze workshop maak je een uniek blanco notitieboekje in A6-formaat of (voor een kleine meerprijs) een gelinieerd notitieboek of eentje met dots. \nDe binding die we gaan toepassen is de Koptische binding en hierbij naai je de katernen aan een omslag van cacaobonen- of jeanspapier of een ander mooi karton. Het prettige van de Koptische binding is dat je notitieboek mooi plat open blijft liggen bij het gebruik. \nVoor het binden heb je keuze uit verschillende kleuren bindgaren. \nVoor het notitiepapier kun je onder andere kiezen uit bermgras-\, tulpenbollen-\, tomatenplanten- of olifantsgraspapier. Allemaal duurzame papiersoorten gefabriceerd in Nederland. \nEen boekje maken met dots of lijntjes is ook mogelijk\, dat kost per setje 3\,60 euro  (A6-formaat) extra. \nBij Makers kun je verschillende soorten papier aanschaffen om thuis je eigen notitieboekjes te maken. \nAanmelden voor deze workshop kan niet meer. Wel kun je je eventueel op de wachtlijst laten zetten door een mailtje te sturen naar Trudie van bijzondereboekjes.nl \nMeer info over deze en andere boekbindworkshops van Trudie kun je vinden op de workshop-pagina van bijzondereboekjes.nl.
URL:https://bijzondereboekjes.nl/event/26-01-14/
LOCATION:Makers Leeuwarden\, Noorderweg 2\, Leeuwarden\, 8911 ES\, Netherlands
CATEGORIES:Workshops
ATTACH;FMTTYPE=image/jpeg:https://bijzondereboekjes.nl/wp-content/uploads/2024/04/koptische-binding.jpg
END:VEVENT
BEGIN:VEVENT
DTSTART;TZID=Europe/Paris:20260115T190000
DTEND;TZID=Europe/Paris:20260115T213000
DTSTAMP:20260421T212420
CREATED:20251103T135703Z
LAST-MODIFIED:20260209T134253Z
UID:9044-1768503600-1768512600@bijzondereboekjes.nl
SUMMARY:Circulair boekbinden met de cahiersteek in Groningen
DESCRIPTION:Wil je op een bijzondere locatie een bijzondere notitieboekjes of een agenda binden? En gebruikmaken van duurzame materialen? \nDat kan in Groningen bij STUDIO BOTER. In een creatieve huiskamer met producten van lokale makers in een monumentaal pandje in de binnenstad. \nTijdens deze boekbindworkshop leer je hoe je met de cahiersteek verrassend leuke boekjes in verschillende formaten kunt maken. \nVoor de omslagen kun je kiezen uit diverse soorten papierleer en gerecycled vilt. Voor de vulling van de boekjes neem ik verschillende setjes duurzaam papier mee zoals bermgras-\, olifantsgras- en tulpenbollenpapier. \nMocht je gelinieerd papier of papier met dots willen gebruiken\, kan dat voor een meerprijs van 3\,60. Ook kun je in plaats van een opschrijfboekje een agenda maken en dan heb je de keuze uit twee indelingen: de week verdeeld over twee pagina’s of de week op de linkerpagina en ruimte voor (aan)tekeningen op de rechterbladzijde. Kies je voor een agenda\, dan is de meerprijs 10 euro. \nAl het gereedschap dat je nodig hebt voor het boekbinden is verder aanwezig. En er is thee met wat lekkers erbij. \nDeze workshop zou eerst plaatsvinden op 8 januari maar is in overleg met de deelnemers verzet naar de 15de. Er zijn geen plekjes meer vrij\, als je een vraag hebt\, kun je een mailtje sturen naar Trudie via mail@bijzondereboekjes.nl \nMeer info over workshops bij Trudie kun je vinden op de workshop-pagina van bijzondereboekjes.nl.
URL:https://bijzondereboekjes.nl/event/2026-01-08/
LOCATION:Studio Boter\, Oude Boteringestraat 5\, Groningen\, 9712 GA
CATEGORIES:Workshops
ATTACH;FMTTYPE=image/jpeg:https://bijzondereboekjes.nl/wp-content/uploads/2024/03/IMG_6724-scaled.jpeg
END:VEVENT
BEGIN:VEVENT
DTSTART;TZID=Europe/Paris:20260119T100000
DTEND;TZID=Europe/Paris:20260119T130000
DTSTAMP:20260421T212420
CREATED:20251206T151542Z
LAST-MODIFIED:20260209T134206Z
UID:9127-1768816800-1768827600@bijzondereboekjes.nl
SUMMARY:Circulair boekbinden met de kettingsteek in de Blokhuispoort
DESCRIPTION:Wil je op een bijzondere locatie een uniek notitieboekje binden? En gebruikmaken van bijzondere en duurzame materialen? \nDat kan dan in de voormalige gevangenis de Blokhuispoort in Leeuwarden als je deze bijzondere boekbindworkshop gaat volgen. \nTijdens deze boekbindworkshop leer je om met de decoratieve kettingsteek notitieboekjes te binden. \nVoor het omslag heb je keuze uit verschillende bijzondere papiersoorten waaronder stevig jeanspapier (gemaakt van spijkerbroeken) en verschillende kleuren handgeschept papier dat gemaakt is van lompen. \nVoor de vulling van de boekjes kun je duurzaam notitiepapier gebruiken zoals bermgras-\, olifantsgras- en tulpenbollenpapier. Voor de liefhebbers is er voor een meerprijs ook biotop papier beschikbaar dat bedrukt is met lijntjes of dots. \nAl het gereedschap dat je nodig hebt voor het boekbinden is verder aanwezig. En er is thee met lekkers erbij. \nAanmelden voor deze workshop of vragen daarover kan door een mailtje te sturen naar Trudie van bijzondereboekjes.nl \nMeer info over deze en andere boekbindworkshops van Trudie kun je vinden op de workshop-pagina van bijzondereboekjes.nl.
URL:https://bijzondereboekjes.nl/event/2026-01-19/
LOCATION:De Blokhuispoort (H-vleugel cel 9)\, Blokhuisplein 40\, Leeuwarden\, 8911 LJ\, Nederland
CATEGORIES:Workshops
ATTACH;FMTTYPE=image/jpeg:https://bijzondereboekjes.nl/wp-content/uploads/2025/12/1766184224034063.jpeg
END:VEVENT
BEGIN:VEVENT
DTSTART;TZID=Europe/Paris:20260127T100000
DTEND;TZID=Europe/Paris:20260127T130000
DTSTAMP:20260421T212420
CREATED:20251107T072118Z
LAST-MODIFIED:20260209T134122Z
UID:9056-1769508000-1769518800@bijzondereboekjes.nl
SUMMARY:Miniboekjes binden met circulair materiaal in de Blokhuispoort
DESCRIPTION:Wil je op een bijzondere locatie een bijzonder miniboekje binden? En gebruikmaken van allerlei restjes papier en theezakjetouwtjes? \nDat kan dan in de voormalige gevangenis de Blokhuispoort in Leeuwarden als je deze bijzondere boekbindworkshop gaat volgen. \nVan een leeg luciferdoosje maak je een heel bijzonder notitieboekje. \nAanmelden voor deze workshop kan door een mailtje te sturen naar Trudie van bijzondereboekjes.nl \nMeer info over deze en andere boekbindworkshops van Trudie kun je vinden op de workshop-pagina van bijzondereboekjes.nl.
URL:https://bijzondereboekjes.nl/event/2026-01-27/
LOCATION:De Blokhuispoort (H-vleugel cel 9)\, Blokhuisplein 40\, Leeuwarden\, 8911 LJ\, Nederland
CATEGORIES:Workshops
ATTACH;FMTTYPE=image/jpeg:https://bijzondereboekjes.nl/wp-content/uploads/2024/04/2024-02-153.jpg
END:VEVENT
END:VCALENDAR