BEGIN:VCALENDAR
VERSION:2.0
PRODID:-//bijzondereboekjes.nl - ECPv6.15.20//NONSGML v1.0//EN
CALSCALE:GREGORIAN
METHOD:PUBLISH
X-WR-CALNAME:bijzondereboekjes.nl
X-ORIGINAL-URL:https://bijzondereboekjes.nl
X-WR-CALDESC:Evenementen voor bijzondereboekjes.nl
REFRESH-INTERVAL;VALUE=DURATION:PT1H
X-Robots-Tag:noindex
X-PUBLISHED-TTL:PT1H
BEGIN:VTIMEZONE
TZID:Europe/Paris
BEGIN:DAYLIGHT
TZOFFSETFROM:+0100
TZOFFSETTO:+0200
TZNAME:CEST
DTSTART:20240331T010000
END:DAYLIGHT
BEGIN:STANDARD
TZOFFSETFROM:+0200
TZOFFSETTO:+0100
TZNAME:CET
DTSTART:20241027T010000
END:STANDARD
BEGIN:DAYLIGHT
TZOFFSETFROM:+0100
TZOFFSETTO:+0200
TZNAME:CEST
DTSTART:20250330T010000
END:DAYLIGHT
BEGIN:STANDARD
TZOFFSETFROM:+0200
TZOFFSETTO:+0100
TZNAME:CET
DTSTART:20251026T010000
END:STANDARD
BEGIN:DAYLIGHT
TZOFFSETFROM:+0100
TZOFFSETTO:+0200
TZNAME:CEST
DTSTART:20260329T010000
END:DAYLIGHT
BEGIN:STANDARD
TZOFFSETFROM:+0200
TZOFFSETTO:+0100
TZNAME:CET
DTSTART:20261025T010000
END:STANDARD
END:VTIMEZONE
BEGIN:VEVENT
DTSTART;TZID=Europe/Paris:20251112T110000
DTEND;TZID=Europe/Paris:20251112T140000
DTSTAMP:20260422T133140
CREATED:20250314T132915Z
LAST-MODIFIED:20251029T115605Z
UID:8635-1762945200-1762956000@bijzondereboekjes.nl
SUMMARY:Circulair boekbinden met de kruisjessteek in Donderen (notitieboek of agenda)
DESCRIPTION:Wil je op een bijzondere locatie een bijzonder boekje binden? En gebruikmaken van duurzame materialen? Dat kan in Donderen (Drenthe) op het terrein van Donderboerkamp in de bunker van de Wolstudio Haren met de kruisjessteek. \nDe kruisjessteek is decoratieve steek waarbij je de katernen per tweetal in het omslag naait. Vergelijkbaar met de cahiersteek maar ietsje ingewikkelder en als je deze onder de knie hebt\, kun je ook weer eindeloos variëren met vorm en kleur. \nVoor het notitiepapier kun je kiezen uit bermgras-\, tulpenbollen-\, tomatenplanten- of olifantsgraspapier. Allemaal duurzame papiersoorten gefabriceerd in Nederland. Tegen meerprijs van 15 euro kun je ook bedrukte katernen in A5-formaat gebruiken om je eigen agenda voor 2026 te binden. Wil je liever een kleiner formaat (A6)\, dan kan dat ook en dat kost  10 euro extra. \nVoor het omslag heb je keuze uit stevig materiaal zoals bijvoorbeeld papierleer. \nAanmelden voor deze workshop kan door een mailtje te sturen naar Trudie van bijzondereboekjes.nl \nMeer info over deze en andere boekbindworkshops van Trudie kun je vinden op de workshop-pagina van bijzondereboekjes.nl.
URL:https://bijzondereboekjes.nl/event/2025-11-12/
LOCATION:Wolstudio Haren\, Norgerweg 219\, Donderen\, 9331 TZ\, Nederland
CATEGORIES:Workshops
ATTACH;FMTTYPE=image/jpeg:https://bijzondereboekjes.nl/wp-content/uploads/2024/03/IMG_6714-scaled.jpeg
END:VEVENT
END:VCALENDAR