BEGIN:VCALENDAR
VERSION:2.0
PRODID:-//bijzondereboekjes.nl - ECPv6.15.20//NONSGML v1.0//EN
CALSCALE:GREGORIAN
METHOD:PUBLISH
X-WR-CALNAME:bijzondereboekjes.nl
X-ORIGINAL-URL:https://bijzondereboekjes.nl
X-WR-CALDESC:Evenementen voor bijzondereboekjes.nl
REFRESH-INTERVAL;VALUE=DURATION:PT1H
X-Robots-Tag:noindex
X-PUBLISHED-TTL:PT1H
BEGIN:VTIMEZONE
TZID:Europe/Paris
BEGIN:DAYLIGHT
TZOFFSETFROM:+0100
TZOFFSETTO:+0200
TZNAME:CEST
DTSTART:20250330T010000
END:DAYLIGHT
BEGIN:STANDARD
TZOFFSETFROM:+0200
TZOFFSETTO:+0100
TZNAME:CET
DTSTART:20251026T010000
END:STANDARD
BEGIN:DAYLIGHT
TZOFFSETFROM:+0100
TZOFFSETTO:+0200
TZNAME:CEST
DTSTART:20260329T010000
END:DAYLIGHT
BEGIN:STANDARD
TZOFFSETFROM:+0200
TZOFFSETTO:+0100
TZNAME:CET
DTSTART:20261025T010000
END:STANDARD
BEGIN:DAYLIGHT
TZOFFSETFROM:+0100
TZOFFSETTO:+0200
TZNAME:CEST
DTSTART:20270328T010000
END:DAYLIGHT
BEGIN:STANDARD
TZOFFSETFROM:+0200
TZOFFSETTO:+0100
TZNAME:CET
DTSTART:20271031T010000
END:STANDARD
END:VTIMEZONE
BEGIN:VEVENT
DTSTART;TZID=Europe/Paris:20260430T100000
DTEND;TZID=Europe/Paris:20260430T130000
DTSTAMP:20260422T025730
CREATED:20260324T125923Z
LAST-MODIFIED:20260413T110040Z
UID:9308-1777543200-1777554000@bijzondereboekjes.nl
SUMMARY:Boekbinden met de kruisjessteek in de Blokhuispoort
DESCRIPTION:Wil je op een bijzondere locatie een bijzonder boekje binden? En gebruikmaken van duurzame materialen? \nDat kan in Leeuwarden in een cel van de voormalige gevangenis de Blokhuispoort met de kruisjessteek. \nDe kruisjessteek is een decoratieve steek waarbij je de katernen per tweetal in het omslag naait. Met deze steek kun je eindeloos variëren met vorm en kleur en het heeft altijd een leuk resultaat. \nVoor het blanco notitiepapier kun je kiezen uit bermgras-\, tulpenbollen-\, tomatenplanten- of olifantsgraspapier. Allemaal duurzame papiersoorten gefabriceerd in Nederland. Voor een meerprijs (€ 2\,50) kun je ook biotop-papier gebruiken dat bedrukt is met lijntjes of dots. \nVoor het omslag heb je keuze uit verschillende kleuren en oersterk vegan leather (kraft-tex). \nLinnen naaigaren is in veel kleuren voor handen. \nAanmelden voor deze workshop kan door een mailtje te sturen naar Trudie van bijzondereboekjes.nl \nMeer info over de workshops bij Trudie kun je vinden op de workshop-pagina van bijzondereboekjes.nl.
URL:https://bijzondereboekjes.nl/event/2026-04-30/
LOCATION:De Blokhuispoort (H-vleugel cel 9)\, Blokhuisplein 40\, Leeuwarden\, 8911 LJ\, Nederland
CATEGORIES:Workshops
ATTACH;FMTTYPE=image/jpeg:https://bijzondereboekjes.nl/wp-content/uploads/2024/03/IMG_6714-scaled.jpeg
END:VEVENT
END:VCALENDAR