BEGIN:VCALENDAR
VERSION:2.0
PRODID:-//bijzondereboekjes.nl - ECPv6.15.20//NONSGML v1.0//EN
CALSCALE:GREGORIAN
METHOD:PUBLISH
X-ORIGINAL-URL:https://bijzondereboekjes.nl
X-WR-CALDESC:Evenementen voor bijzondereboekjes.nl
REFRESH-INTERVAL;VALUE=DURATION:PT1H
X-Robots-Tag:noindex
X-PUBLISHED-TTL:PT1H
BEGIN:VTIMEZONE
TZID:Europe/Paris
BEGIN:DAYLIGHT
TZOFFSETFROM:+0100
TZOFFSETTO:+0200
TZNAME:CEST
DTSTART:20240331T010000
END:DAYLIGHT
BEGIN:STANDARD
TZOFFSETFROM:+0200
TZOFFSETTO:+0100
TZNAME:CET
DTSTART:20241027T010000
END:STANDARD
BEGIN:DAYLIGHT
TZOFFSETFROM:+0100
TZOFFSETTO:+0200
TZNAME:CEST
DTSTART:20250330T010000
END:DAYLIGHT
BEGIN:STANDARD
TZOFFSETFROM:+0200
TZOFFSETTO:+0100
TZNAME:CET
DTSTART:20251026T010000
END:STANDARD
BEGIN:DAYLIGHT
TZOFFSETFROM:+0100
TZOFFSETTO:+0200
TZNAME:CEST
DTSTART:20260329T010000
END:DAYLIGHT
BEGIN:STANDARD
TZOFFSETFROM:+0200
TZOFFSETTO:+0100
TZNAME:CET
DTSTART:20261025T010000
END:STANDARD
BEGIN:DAYLIGHT
TZOFFSETFROM:+0100
TZOFFSETTO:+0200
TZNAME:CEST
DTSTART:20270328T010000
END:DAYLIGHT
BEGIN:STANDARD
TZOFFSETFROM:+0200
TZOFFSETTO:+0100
TZNAME:CET
DTSTART:20271031T010000
END:STANDARD
END:VTIMEZONE
BEGIN:VEVENT
DTSTART;TZID=Europe/Paris:20260305T190000
DTEND;TZID=Europe/Paris:20260305T213000
DTSTAMP:20260422T045640
CREATED:20251206T132403Z
LAST-MODIFIED:20260209T133315Z
UID:9105-1772737200-1772746200@bijzondereboekjes.nl
SUMMARY:Circulair binden met leer in Groningen
DESCRIPTION:Wil je op een bijzondere locatie zelf een leren journal binden? En gebruikmaken van duurzame materialen? \nDat kan in Groningen bij STUDIO BOTER. In een creatieve huiskamer met producten van lokale makers in een monumentaal pandje in de binnenstad. \nTijdens deze workshop maak je een unieke journal waarbij je met een bijzondere kruissteek vijf katernen aan een omslag van leer (of papierleer) vastnaait. Je hebt keuze uit verschillende soorten en kleuren. Het leer is afkomstig van partijen afgekeurd leer en van een leren bankstel. \nVoor het blanco notitiepapier kun je kiezen uit bermgras-\, tulpenbollen-\, tomatenplanten- of olifantsgraspapier. Allemaal duurzame papiersoorten gefabriceerd in Nederland. Voor een meerprijs (€ 2\,50) kun je ook biotop-papier gebruiken dat bedrukt is met lijntjes of dots. \nOm mee te binden is er hennepkoord en andere garens in verschillende kleuren beschikbaar. \nAl het gereedschap dat je nodig hebt voor het boekbinden is ook aanwezig. En er is thee met wat lekkers erbij. \nAanmelden voor deze workshop kan door een mailtje te sturen naar Trudie van bijzondereboekjes.nl \nMeer info over workshops bij Trudie kun je vinden op de workshop-pagina van bijzondereboekjes.nl.
URL:https://bijzondereboekjes.nl/event/2026-03-05/
LOCATION:Studio Boter\, Oude Boteringestraat 5\, Groningen\, 9712 GA
CATEGORIES:Workshops
ATTACH;FMTTYPE=image/jpeg:https://bijzondereboekjes.nl/wp-content/uploads/2024/11/leren-journal-1.jpg
END:VEVENT
BEGIN:VEVENT
DTSTART;TZID=Europe/Paris:20260211T193000
DTEND;TZID=Europe/Paris:20260211T213000
DTSTAMP:20260422T045640
CREATED:20251103T132701Z
LAST-MODIFIED:20260209T132852Z
UID:9039-1770838200-1770845400@bijzondereboekjes.nl
SUMMARY:Circulair boekbinden met leer in Leeuwarden (VOL)
DESCRIPTION:Wil je op een bijzondere locatie een uniek schets- of opschrijfboekje binden? En gebruikmaken van duurzame materialen? \nDat kan in Leeuwarden op een creatieve plek bij Makers Leeuwarden op de hoek Vijzelstraat/Noorderweg\, waar je prachtige artikelen vindt die gemaakt zijn door Makers uit heel Nederland. \nTijdens deze workshop maak je een unieke journal waarbij je met een bijzondere kruissteek vijf katernen aan een omslag van leer (of papierleer) vastnaait. Je hebt keuze uit verschillende soorten en kleuren. Het leer is afkomstig van partijen afgekeurd leer en van een leren bankstel. \nVoor het blanco notitiepapier kun je onder andere kiezen uit bermgras-\, tulpenbollen-\, tomatenplanten- of olifantsgraspapier. Allemaal duurzame papiersoorten gefabriceerd in Nederland. Voor een meerprijs (€ 2\,50) kun je ook biotop-papier gebruiken dat bedrukt is met lijntjes of dots. \nOm mee te binden is er hennepkoord en andere garens in verschillende kleuren beschikbaar. \nBij Makers kun je verschillende soorten materialen aanschaffen om thuis je eigen notitieboekjes te maken. \nAanmelden voor deze workshop kan niet meer. Als je vragen hebt\, kun je altijd een mailtje sturen naar Trudie van bijzondereboekjes.nl of kijk in de workshop kalender naar een alternatief. \nMeer info over deze en andere boekbindworkshops van Trudie kun je vinden op de workshop-pagina van bijzondereboekjes.nl.
URL:https://bijzondereboekjes.nl/event/26-02-11/
LOCATION:Makers Leeuwarden\, Noorderweg 2\, Leeuwarden\, 8911 ES\, Netherlands
CATEGORIES:Workshops
ATTACH;FMTTYPE=image/jpeg:https://bijzondereboekjes.nl/wp-content/uploads/2024/11/leren-journal.jpg
END:VEVENT
BEGIN:VEVENT
DTSTART;TZID=Europe/Paris:20251104T110000
DTEND;TZID=Europe/Paris:20251104T140000
DTSTAMP:20260422T045640
CREATED:20251022T111616Z
LAST-MODIFIED:20251022T112743Z
UID:9016-1762254000-1762264800@bijzondereboekjes.nl
SUMMARY:Circulair boekbinden met leer (of papierleer) in Leeuwarden
DESCRIPTION:Wil je op een bijzondere locatie een bijzonder boekje binden? En gebruikmaken van duurzame materialen? \nDat kan in Leeuwarden in een cel van de voormalige gevangenis de Blokhuispoort. \nTijdens deze workshop maak je een uniek blanco notitieboek met duurzaam papier of (tegen meerprijs) een agenda\, een gelinieerd notitieboek of eentje met dots of een combinatie daarvan. Je bindt de katernen in een omslag van leer of papierleer. \nVoor 10 euro (A6-formaat) meerprijs kun je bedrukte katernen van tomatenplantenpapier aanschaffen waarmee je je eigen agenda voor 2026 bindt. \nVoor de agenda indeling zijn er twee soorten: \nde week op de linker bladzijde en notitieruimte op de rechter bladzijde\nde week verdeeld over twee bladzijden. \nEen boekje maken met dots of lijntjes is ook mogelijk\, dat kost per setje 3\,60 euro extra. \nBij je aanmelding voor de workshop hoor ik graag of je van plan bent om gebruik te maken van de extra opties. \nAanmelden voor deze workshop kan door een mailtje te sturen naar Trudie van bijzondereboekjes.nl \nMeer info over deze en andere boekbindworkshops van Trudie kun je vinden op de workshop-pagina van bijzondereboekjes.nl.
URL:https://bijzondereboekjes.nl/event/25-11-04/
LOCATION:De Blokhuispoort (H-vleugel cel 9)\, Blokhuisplein 40\, Leeuwarden\, 8911 LJ\, Nederland
CATEGORIES:Workshops
ATTACH;FMTTYPE=image/jpeg:https://bijzondereboekjes.nl/wp-content/uploads/2025/10/IMG_9431-e1761135764494.jpeg
END:VEVENT
BEGIN:VEVENT
DTSTART;TZID=Europe/Paris:20250820T203000
DTEND;TZID=Europe/Paris:20250820T223000
DTSTAMP:20260422T045640
CREATED:20250718T153420Z
LAST-MODIFIED:20250728T113255Z
UID:8849-1755721800-1755729000@bijzondereboekjes.nl
SUMMARY:Circulair boekbinden met leer in Leeuwarden
DESCRIPTION:Wil je op een bijzondere locatie een bijzonder boekje binden? En gebruikmaken van duurzame materialen? \nDat kan in Leeuwarden op een gloednieuwe creatieve plek bij Makers Leeuwarden op de hoek Vijzelstraat/Noorderweg\, waar je prachtige artikelen vindt die gemaakt zijn door Makers uit heel Nederland. \nTijdens deze workshop maak je een unieke journal waarbij je met een bijzondere kruissteek vijf katernen aan een omslag van leer of papierleer vastnaait. Je hebt keuze uit verschillende soorten en kleuren. \nVoor het notitiepapier kun je onder andere kiezen uit bermgras-\, tulpenbollen-\, tomatenplanten- of olifantsgraspapier. Allemaal duurzame papiersoorten gefabriceerd in Nederland. \nOm mee te binden is er hennepkoord en andere garens in verschillende kleuren beschikbaar. \nBij Makers kun je verschillende soorten materialen aanschaffen om thuis je eigen notitieboekjes mee te maken. \nAanmelden voor deze workshop kan door een mailtje te sturen naar Trudie van bijzondereboekjes.nl \nMeer info over deze en andere boekbindworkshops van Trudie kun je vinden op de workshop-pagina van bijzondereboekjes.nl.
URL:https://bijzondereboekjes.nl/event/25-08-20/
LOCATION:Makers Leeuwarden\, Noorderweg 2\, Leeuwarden\, 8911 ES\, Netherlands
CATEGORIES:Workshops
ATTACH;FMTTYPE=image/jpeg:https://bijzondereboekjes.nl/wp-content/uploads/2024/11/leren-journal.jpg
END:VEVENT
BEGIN:VEVENT
DTSTART;TZID=Europe/Paris:20250520T110000
DTEND;TZID=Europe/Paris:20250520T140000
DTSTAMP:20260422T045640
CREATED:20241119T145522Z
LAST-MODIFIED:20250329T143322Z
UID:8360-1747738800-1747749600@bijzondereboekjes.nl
SUMMARY:Thema workshop: boekbinden met leer in de Blokhuispoort
DESCRIPTION:Wil je op een bijzondere locatie een bijzonder boekje binden? En gebruikmaken van duurzame materialen? \nDat kan in Leeuwarden in een cel van de voormalige gevangenis de Blokhuispoort met gebruikmaking van een stuk leer van een bankstel of een andere herkomst. \nMet een stevig koord naai je met een bijzondere kruissteek vijf katernen aan het leer vast. \nVoor het notitiepapier kun je onder andere kiezen uit bermgras-\, tulpenbollen-\, tomatenplanten- of olifantsgraspapier. Allemaal duurzame papiersoorten gefabriceerd in Nederland. \nHennepkoord is in verschillende kleuren voor handen. \nAanmelden voor deze workshop kan door een mailtje te sturen naar Trudie van bijzondereboekjes.nl \nMeer info over de workshops bij Trudie kun je vinden op de workshop-pagina van bijzondereboekjes.nl.
URL:https://bijzondereboekjes.nl/event/25-05-20/
LOCATION:De Blokhuispoort (H-vleugel cel 9)\, Blokhuisplein 40\, Leeuwarden\, 8911 LJ\, Nederland
CATEGORIES:Workshops
ATTACH;FMTTYPE=image/jpeg:https://bijzondereboekjes.nl/wp-content/uploads/2024/11/leren-journal.jpg
END:VEVENT
END:VCALENDAR